BEGIN:VCALENDAR
PRODID:-//github.com/rianjs/ical.net//NONSGML ical.net 4.0//EN
VERSION:2.0
BEGIN:VEVENT
DESCRIPTION:Wir stricken uns die Fahrradstadt - Mobilität ist nicht männli
 ch! Der Blick von FLINTA auf die Verkehrswende ist in der Stadtplanung un
 terrepräsentiert. Wir wollen das ändern!\nhttps://touren-termine.adfc.de/
 radveranstaltung/144539-cyclistaclub
DTEND:20241217T201500Z
DTSTAMP:20260420T231348Z
DTSTART:20241217T180000Z
LOCATION:Geschäftsstelle ADFC Hamburg\, Koppel 34-36\, 20099 Hamburg\, St.
  Georg
SEQUENCE:0
SUMMARY:Cyclista*Club
UID:eb95448d-6904-4476-9a67-b1aa0b0c1457
URL:https://touren-termine.adfc.de/radveranstaltung/144539-cyclistaclub
END:VEVENT
END:VCALENDAR
