BEGIN:VCALENDAR
PRODID:-//github.com/rianjs/ical.net//NONSGML ical.net 4.0//EN
VERSION:2.0
BEGIN:VEVENT
DESCRIPTION:Über abgelegene Wirtschaftswege fahren wir über Wettringen\, S
 chüttorf zum Hutewald nach Bad Bentheim.\nhttps://touren-termine.adfc.de/
 radveranstaltung/174015-von-ochtrup-uber-schuttorf-nach-bad-bentheim
DTEND:20260627T140000Z
DTSTAMP:20260421T153321Z
DTSTART:20260627T080000Z
LOCATION:Beethovenstraße 1\, 48607 Ochtrup
SEQUENCE:0
SUMMARY:Von Ochtrup über Schüttorf nach Bad Bentheim
UID:29ebcab5-eb69-4573-b100-4ec39d361018
URL:https://touren-termine.adfc.de/radveranstaltung/174015-von-ochtrup-ube
 r-schuttorf-nach-bad-bentheim
END:VEVENT
END:VCALENDAR
