BEGIN:VCALENDAR
PRODID:-//github.com/rianjs/ical.net//NONSGML ical.net 4.0//EN
VERSION:2.0
BEGIN:VEVENT
DESCRIPTION:Einladung zur Mitgliederversammlung 2025\n\nZur Mitgliedervers
 ammlung des ADFC Bamberg e.V. am Freitag\, 21. März 2025 ab 19:00 Uhr  la
 den wir alle unsere Mitglieder herzlich ein.\nhttps://touren-termine.adfc
 .de/radveranstaltung/158778-mitgliederversammlung-2025-des-adfc-bamberg
DTEND:20250321T210000Z
DTSTAMP:20260421T133304Z
DTSTART:20250321T180000Z
LOCATION:Moosstraße 32\, 96050 Bamberg
SEQUENCE:0
SUMMARY:Mitgliederversammlung 2025 des ADFC Bamberg
UID:5bb7f9b4-c04d-4874-8e78-5d974abf2c25
URL:https://touren-termine.adfc.de/radveranstaltung/158778-mitgliederversa
 mmlung-2025-des-adfc-bamberg
END:VEVENT
END:VCALENDAR
