BEGIN:VCALENDAR
PRODID:-//github.com/rianjs/ical.net//NONSGML ical.net 4.0//EN
VERSION:2.0
BEGIN:VEVENT
DESCRIPTION:Einfach mal für ein paar Wochen auf das Fahrrad umsteigen - fü
 r ein gesundes Klima und die eigene Gesundheit.\nhttps://touren-termine.a
 dfc.de/radveranstaltung/120455-autofasten
DTEND:20240329T190000Z
DTSTAMP:20260421T235251Z
DTSTART:20240214T060000Z
LOCATION:Südenwall 19\, 59065 Hamm
SEQUENCE:0
SUMMARY:Autofasten
UID:ac6874fd-149a-4952-9e00-a19e9be905e9
URL:https://touren-termine.adfc.de/radveranstaltung/120455-autofasten
END:VEVENT
END:VCALENDAR
