BEGIN:VCALENDAR
PRODID:-//github.com/rianjs/ical.net//NONSGML ical.net 4.0//EN
VERSION:2.0
BEGIN:VEVENT
DESCRIPTION:Weiden über Mantel nach Grafenwöhr. Kurze Stadtrundfahrt\,  Ei
 nkehr (bei Teilnehmendenwunsch). Weiter entlang des TÜP nach Vilseck.  En
 de der geführten Tour. Eigenverantwortliche Rückfahrt per Bahn.\nhttps://
 touren-termine.adfc.de/radveranstaltung/128464-am-truppenubungsplatz-graf
 enwohr-entlang
DTEND:20240505T150000Z
DTSTAMP:20260424T151233Z
DTSTART:20240505T080000Z
LOCATION:Oberer Markt\, 92637 Weiden in der Oberpfalz
SEQUENCE:0
SUMMARY:Am Truppenübungsplatz Grafenwöhr entlang
UID:4bec5888-8f11-4f9e-b5bb-6446ec8ad91a
URL:https://touren-termine.adfc.de/radveranstaltung/128464-am-truppenubung
 splatz-grafenwohr-entlang
END:VEVENT
END:VCALENDAR
