BEGIN:VCALENDAR
PRODID:-//github.com/rianjs/ical.net//NONSGML ical.net 4.0//EN
VERSION:2.0
BEGIN:VEVENT
DESCRIPTION:Radtour von Neustadt nach Iggelheim\nhttps://touren-termine.ad
 fc.de/radveranstaltung/181668-radtour-von-neustadt-nach-iggelheim
DTEND:20260912T133000Z
DTSTAMP:20260425T172100Z
DTSTART:20260912T083000Z
LOCATION:Festplatzstraße 7\, 67433 Neustadt an der Weinstraße
SEQUENCE:0
SUMMARY:Radtour von Neustadt nach Iggelheim
UID:1c5826c8-d90f-43be-82ce-b26eab6582ff
URL:https://touren-termine.adfc.de/radveranstaltung/181668-radtour-von-neu
 stadt-nach-iggelheim
END:VEVENT
END:VCALENDAR
