BEGIN:VCALENDAR
PRODID:-//github.com/rianjs/ical.net//NONSGML ical.net 4.0//EN
VERSION:2.0
BEGIN:VEVENT
DESCRIPTION:Am 1. März findet der bundesweite Klimaprotest unter dem Motto
  #WirFahrenZusammen statt. Setz mit uns ein Zeichen für die Verkehrswende
  und den Klimaschutz und sei dabei!\nhttps://touren-termine.adfc.de/radve
 ranstaltung/123439-klimastreik-wirfahrenzusammen
DTEND:20240301T130000Z
DTSTAMP:20260421T233551Z
DTSTART:20240301T090000Z
LOCATION:Invalidenpark\, Invalidenstraße 10115 Berlin Mitte\, 10115 Berlin
SEQUENCE:0
SUMMARY:Klimastreik #WirFahrenZusammen
UID:109be2e1-a2e7-4021-bce2-3d18858eb10d
URL:https://touren-termine.adfc.de/radveranstaltung/123439-klimastreik-wir
 fahrenzusammen
END:VEVENT
END:VCALENDAR
