BEGIN:VCALENDAR
PRODID:-//github.com/rianjs/ical.net//NONSGML ical.net 4.0//EN
VERSION:2.0
BEGIN:VEVENT
DESCRIPTION:Von Hameln führt die Tour über Emmerthal  und Löwensen ins Sch
 ellental. Von dort über den Schellenberg nach Gellersen und zur Einkehr i
 n Hämelschenburg. Von dort geht es über Klein Berkel zurück.\nhttps://tou
 ren-termine.adfc.de/radveranstaltung/180399-ubers-schellental-nach-hamels
 chenburg
DTEND:20260725T160000Z
DTSTAMP:20260423T141918Z
DTSTART:20260725T110000Z
LOCATION:Sudetenstraße 1\, 31785 Hameln
SEQUENCE:0
SUMMARY:Übers Schellental nach Hämelschenburg
UID:7f297fe1-82dc-444d-8a9c-feeb8afe9301
URL:https://touren-termine.adfc.de/radveranstaltung/180399-ubers-schellent
 al-nach-hamelschenburg
END:VEVENT
END:VCALENDAR
