BEGIN:VCALENDAR
PRODID:-//github.com/rianjs/ical.net//NONSGML ical.net 4.0//EN
VERSION:2.0
BEGIN:VEVENT
DESCRIPTION:ca. 70 km\, 16-18 km/h\, Start: Pavillon Schmölderpark\, 05.10
 .2025\, 09:30 Uhr. Ab Schmölderpark über Skywalk Rheinbraun nach Alt-Kast
 er und über Grevenbroich zurück. Mit Einkehrmöglichkeiten.\nhttps://toure
 n-termine.adfc.de/radveranstaltung/169438-rheydt-altkaster-grevenbroich-r
 heydt
DTEND:20251005T140000Z
DTSTAMP:20260420T232102Z
DTSTART:20251005T073000Z
LOCATION:Schmölderstraße\, 41239 Mönchengladbach
SEQUENCE:0
SUMMARY:Rheydt - Alt-Kaster - Grevenbroich - Rheydt
UID:ccfd8cb9-3d24-43da-bd76-1ab2e1098e7a
URL:https://touren-termine.adfc.de/radveranstaltung/169438-rheydt-altkaste
 r-grevenbroich-rheydt
END:VEVENT
END:VCALENDAR
