BEGIN:VCALENDAR
PRODID:-//github.com/rianjs/ical.net//NONSGML ical.net 4.0//EN
VERSION:2.0
BEGIN:VEVENT
DESCRIPTION:Jeden Montag findet morgens eine Radtour statt.\nhttps://toure
 n-termine.adfc.de/radveranstaltung/137600-montag-morgen-tour
DTEND:20240916T100000Z
DTSTAMP:20260423T201403Z
DTSTART:20240916T080000Z
LOCATION:In der Ahe 29\, 27356 Rotenburg
SEQUENCE:0
SUMMARY:Montag Morgen Tour
UID:03219599-75de-469c-873d-dd0d4794a281
URL:https://touren-termine.adfc.de/radveranstaltung/137600-montag-morgen-t
 our
END:VEVENT
END:VCALENDAR
