BEGIN:VCALENDAR
PRODID:-//github.com/rianjs/ical.net//NONSGML ical.net 4.0//EN
VERSION:2.0
BEGIN:VEVENT
DESCRIPTION:Mit Anmeldung! Diese Tagestour bietet neben 2 lohnenden Zielen
  zum Einkehren\,\nMittagessen im Rittergütl und Kaffee trinken im Café Wa
 ldhauser\, das einzigartige Brauchtumsfest\, "Musikanten im Dorf"!\nhttps
 ://touren-termine.adfc.de/radveranstaltung/119314-rittergutl-irschenhause
 n-und-cafe-waldhauser
DTEND:20240714T160000Z
DTSTAMP:20260425T150458Z
DTSTART:20240714T080000Z
LOCATION:Marktplatz\, 82205 Gilching
SEQUENCE:0
SUMMARY:Rittergütl Irschenhausen und Cafe Waldhauser
UID:a55dce54-fbb6-41a9-a16e-2d99c60eb4a7
URL:https://touren-termine.adfc.de/radveranstaltung/119314-rittergutl-irsc
 henhausen-und-cafe-waldhauser
END:VEVENT
END:VCALENDAR
