BEGIN:VCALENDAR
PRODID:-//github.com/rianjs/ical.net//NONSGML ical.net 4.0//EN
VERSION:2.0
BEGIN:VEVENT
DESCRIPTION:Eine kurze Fahrradtour mit einer Rast im Cafe bei der Porzella
 nbörse in Hüllerup\nhttps://touren-termine.adfc.de/radveranstaltung/19152
 9-leichte-fahrradtour-zum-porzellancafe-hullerup
DTEND:20260516T143000Z
DTSTAMP:20260422T165742Z
DTSTART:20260501T103000Z
LOCATION:Hafenspitze Flensburg\, 24937 Flensburg
SEQUENCE:0
SUMMARY:Leichte Fahrradtour zum Porzellancafe Hüllerup
UID:33d5ac04-b785-445e-bae7-0ea4accd1ace
URL:https://touren-termine.adfc.de/radveranstaltung/191529-leichte-fahrrad
 tour-zum-porzellancafe-hullerup
END:VEVENT
END:VCALENDAR
