BEGIN:VCALENDAR
PRODID:-//github.com/rianjs/ical.net//NONSGML ical.net 4.0//EN
VERSION:2.0
BEGIN:VEVENT
DESCRIPTION:Auf dem Kleine Dörfer Weg im Nordöstlichen Teil der Stadt samm
 eln wir auf Streuobstwiesen Äpfel und bringen diese hinter die Magnikirch
 e zum Mosten\nhttps://touren-termine.adfc.de/radveranstaltung/85387-4brau
 nschweiger-apfeltag
DTEND:20230924T130000Z
DTSTAMP:20260423T051139Z
DTSTART:20230924T090000Z
LOCATION:Kirchgasse\, 38104 Braunschweig
SEQUENCE:0
SUMMARY:4.Braunschweiger Apfeltag
UID:3650b9a8-5af6-4962-bfad-e3b5d49d5e06
URL:https://touren-termine.adfc.de/radveranstaltung/85387-4braunschweiger-
 apfeltag
END:VEVENT
END:VCALENDAR
