BEGIN:VCALENDAR
PRODID:-//github.com/rianjs/ical.net//NONSGML ical.net 4.0//EN
VERSION:2.0
BEGIN:VEVENT
DESCRIPTION:Die Schleife Neumarkt ist bei diese Feierabendtour im Regional
 park unsere heutige Radroute.\nhttps://touren-termine.adfc.de/radveransta
 ltung/191475-quellenreichneumarkter-runde
DTEND:20260511T180000Z
DTSTAMP:20260424T231405Z
DTSTART:20260511T150000Z
LOCATION:Schauturm im LGS-Gelände\, Dr.-Kurz-Str.\,\, 92318 Neumarkt in de
 r Oberpfalz
SEQUENCE:0
SUMMARY:Quellenreich_Neumarkter Runde
UID:54438c1e-913b-4995-8947-cb5f678d3250
URL:https://touren-termine.adfc.de/radveranstaltung/191475-quellenreichneu
 markter-runde
END:VEVENT
END:VCALENDAR
