BEGIN:VCALENDAR
PRODID:-//github.com/rianjs/ical.net//NONSGML ical.net 4.0//EN
VERSION:2.0
BEGIN:VEVENT
DESCRIPTION:Wer schreibt? Wer schreibt mit? "Sicherheit im Verkehr" ist da
 s Ober-Thema für die nächste HannoRad-Ausgabe. Wer in Langenhagen mitschr
 eiben möchte\, melde sich VORHER beim ADFC Langenhagen.\nhttps://touren-t
 ermine.adfc.de/radveranstaltung/126332-redaktionsschluss-hannorad-22025-
DTEND:20250525T215500Z
DTSTAMP:20260424T173316Z
DTSTART:20250525T215000Z
LOCATION:Zentraler ADFC Stützpunkt\, 30853 Langenhagen
SEQUENCE:0
SUMMARY:Redaktionsschluss HannoRad 2/2025 ⓇⓈ
UID:dd66e07d-d14d-451c-bfee-251e73945b11
URL:https://touren-termine.adfc.de/radveranstaltung/126332-redaktionsschlu
 ss-hannorad-22025-
END:VEVENT
END:VCALENDAR
