BEGIN:VCALENDAR
PRODID:-//github.com/rianjs/ical.net//NONSGML ical.net 4.0//EN
VERSION:2.0
BEGIN:VEVENT
DESCRIPTION:Die Kidical Mass Essen demonstriert seit 2019 für sichere Radw
 ege für Kinder und Jugendliche. Ziel der Demonstrationen ist auch die Ver
 besserung der Radwege\nhttps://touren-termine.adfc.de/radveranstaltung/18
 0762-kidical-mass-die-kinderfahrraddemo
DTEND:20260509T140000Z
DTSTAMP:20260419T182145Z
DTSTART:20260509T120000Z
LOCATION:Stankeitstraße\, Kaiser-Wilhelm-Park\, 45326 Essen
SEQUENCE:0
SUMMARY:Kidical Mass – Die Kinder-Fahrrad-Demo
UID:393c96ba-0711-4fb1-9937-960d1d246e54
URL:https://touren-termine.adfc.de/radveranstaltung/180762-kidical-mass-di
 e-kinderfahrraddemo
END:VEVENT
END:VCALENDAR
