BEGIN:VCALENDAR
PRODID:-//github.com/rianjs/ical.net//NONSGML ical.net 4.0//EN
VERSION:2.0
BEGIN:VEVENT
DESCRIPTION:Eine letzte kalendarische Herbstrunde in die Umgebung von Oran
 ienburg\nhttps://touren-termine.adfc.de/radveranstaltung/179443-herbstabs
 chiedstour
DTEND:20251213T140000Z
DTSTAMP:20260425T232458Z
DTSTART:20251213T090000Z
LOCATION:Bahnhof\, 16515 Oranienburg
SEQUENCE:0
SUMMARY:Herbstabschiedstour
UID:9a10740b-242b-4511-9cef-35d1b81be1c9
URL:https://touren-termine.adfc.de/radveranstaltung/179443-herbstabschieds
 tour
END:VEVENT
END:VCALENDAR
