BEGIN:VCALENDAR
PRODID:-//github.com/rianjs/ical.net//NONSGML ical.net 4.0//EN
VERSION:2.0
BEGIN:VEVENT
DESCRIPTION:Zum 12. Mal in diesem Jahr müssen wir einer Radfahrerin gedenk
 en\, die nach einem Verkehrsunfall ums Leben gekommen ist.\nhttps://toure
 n-termine.adfc.de/radveranstaltung/110172-visionzerodemo-geisterradmahnwa
 che-grunewald
DTEND:20231109T183000Z
DTSTAMP:20260421T233951Z
DTSTART:20231109T154500Z
LOCATION:Möckernstraße 47\, 10963 Berlin
SEQUENCE:0
SUMMARY:VisionZero-Demo & Geisterrad-Mahnwache Grunewald
UID:c7d51098-f6f3-46a3-8c21-3e701c8ebc7c
URL:https://touren-termine.adfc.de/radveranstaltung/110172-visionzerodemo-
 geisterradmahnwache-grunewald
END:VEVENT
END:VCALENDAR
