BEGIN:VCALENDAR
PRODID:-//github.com/rianjs/ical.net//NONSGML ical.net 4.0//EN
VERSION:2.0
BEGIN:VEVENT
DESCRIPTION:Von Kolbermoor nach Nickelheim und über Grünthal wieder zurück
  für Langsamfüher und wenig Geübte\nhttps://touren-termine.adfc.de/radver
 anstaltung/198041-gemutlilch-von-kolbermoor-nach-nickelheim
DTEND:20260412T133000Z
DTSTAMP:20260419T194002Z
DTSTART:20260412T120000Z
LOCATION:Von-Bippen-Straße 21\, 83059 Kolbermoor
SEQUENCE:0
SUMMARY:Gemütlilch von Kolbermoor nach Nickelheim
UID:44d1d9d9-8e08-442d-95f1-d4ad4acd841f
URL:https://touren-termine.adfc.de/radveranstaltung/198041-gemutlilch-von-
 kolbermoor-nach-nickelheim
END:VEVENT
END:VCALENDAR
