BEGIN:VCALENDAR
PRODID:-//github.com/rianjs/ical.net//NONSGML ical.net 4.0//EN
VERSION:2.0
BEGIN:VEVENT
DESCRIPTION:Vor dem Radlerstammtisch treffen sich die Aktiven und die Vors
 tandschaft.\nhttps://touren-termine.adfc.de/radveranstaltung/145060-aktiv
 entreff
DTEND:20250605T170000Z
DTSTAMP:20260419T155800Z
DTSTART:20250605T160000Z
LOCATION:Gasthaus Belfort\, Mindelheimer Straße 35\, 87600 Kaufbeuren
SEQUENCE:0
SUMMARY:Aktiventreff
UID:c792cf06-cb17-4971-8d72-7cf1ae475976
URL:https://touren-termine.adfc.de/radveranstaltung/145060-aktiventreff
END:VEVENT
END:VCALENDAR
