BEGIN:VCALENDAR
PRODID:-//github.com/rianjs/ical.net//NONSGML ical.net 4.0//EN
VERSION:2.0
BEGIN:VEVENT
DESCRIPTION:Erlebe die faszinierende Natur des Schwäbischen Waldes auf ein
 er einzigartigen Radtour! Entdecke die Vielfalt der Pflanzen- und Tierwel
 t und lass Dich von der Schönheit der Landschaft verzaubern.\nhttps://tou
 ren-termine.adfc.de/radveranstaltung/148336-in-den-schwabischen-wald
DTEND:20250727T160000Z
DTSTAMP:20260425T194300Z
DTSTART:20250727T070000Z
LOCATION:Kuhriosum (Kronenplatz)\, 74321 Bietigheim-Bissingen
SEQUENCE:0
SUMMARY:In den Schwäbischen Wald
UID:c4e9f207-b771-43a3-9712-8ca4be4dfdec
URL:https://touren-termine.adfc.de/radveranstaltung/148336-in-den-schwabis
 chen-wald
END:VEVENT
END:VCALENDAR
