BEGIN:VCALENDAR
PRODID:-//github.com/rianjs/ical.net//NONSGML ical.net 4.0//EN
VERSION:2.0
BEGIN:VEVENT
DESCRIPTION:Zum 27. Mal in Folge präsentiert der ADFC Frankfurt seine jähr
 liche RadReiseMesse. Viele Tourismusregionen und Anbieter von Radreisen\,
  Ausrüstung und Zubehör präsentieren sich am Sonntag\, 16. März.\nhttps:/
 /touren-termine.adfc.de/radveranstaltung/152267-plane-schmieden-fur-die-s
 ommerliche-radreise
DTEND:20250316T160000Z
DTSTAMP:20260421T160918Z
DTSTART:20250316T100000Z
LOCATION:Arnsburger Straße 24\, 60385 Frankfurt am Main
SEQUENCE:0
SUMMARY:Pläne schmieden für die sommerliche Radreise
UID:4d5e2c71-feeb-4989-8413-bb819c3f73b6
URL:https://touren-termine.adfc.de/radveranstaltung/152267-plane-schmieden
 -fur-die-sommerliche-radreise
END:VEVENT
END:VCALENDAR
