BEGIN:VCALENDAR
PRODID:-//github.com/rianjs/ical.net//NONSGML ical.net 4.0//EN
VERSION:2.0
BEGIN:VEVENT
DESCRIPTION:Früh radeln wir von Oranienburg nach Charlottenburg. Sodann we
 rden wir durch den Sender RBB geführt. Eine gemeinsame Rückfahrt ist eben
 falls vorgesehen.\nhttps://touren-termine.adfc.de/radveranstaltung/168155
 -radio-berlin-brandenburg-tour-und-fuhrung
DTEND:20250811T160000Z
DTSTAMP:20260425T201950Z
DTSTART:20250811T053000Z
LOCATION:Bahnhof\, 16515 Oranienburg
SEQUENCE:0
SUMMARY:Radio Berlin Brandenburg - Tour und Führung
UID:003cbd08-6efc-45ff-bc68-4a88313ad948
URL:https://touren-termine.adfc.de/radveranstaltung/168155-radio-berlin-br
 andenburg-tour-und-fuhrung
END:VEVENT
END:VCALENDAR
