BEGIN:VCALENDAR
PRODID:-//github.com/rianjs/ical.net//NONSGML ical.net 4.0//EN
VERSION:2.0
BEGIN:VEVENT
DESCRIPTION:Wir fahren in Fahrgemeinschaften ins Alpenland. Das Ziel wird 
 bei der Anmeldung bekannt gegeben. Im Voralpenland und im 5 Seengebiet si
 nd ebenso Touren möglich.\nhttps://touren-termine.adfc.de/radveranstaltun
 g/89871-mtbbergtour-nach-wahl
DTEND:20230608T160000Z
DTSTAMP:20260425T145811Z
DTSTART:20230608T063000Z
LOCATION:Carolinenstraße 1a\, 82319 Starnberg
SEQUENCE:0
SUMMARY:MTB-Bergtour nach Wahl
UID:a5ef8591-de62-44f1-9339-7864d29f7084
URL:https://touren-termine.adfc.de/radveranstaltung/89871-mtbbergtour-nach
 -wahl
END:VEVENT
END:VCALENDAR
