BEGIN:VCALENDAR
PRODID:-//github.com/rianjs/ical.net//NONSGML ical.net 4.0//EN
VERSION:2.0
BEGIN:VEVENT
DESCRIPTION:Monatlicher Stammtisch von interessierten Radlerinnen und Radl
 ern. Jeweils am letzten Dienstag im \nMonat\nhttps://touren-termine.adfc.
 de/radveranstaltung/143743-radlertreff-des-adfc-hamburg
DTEND:20241029T220000Z
DTSTAMP:20260421T030633Z
DTSTART:20241029T180000Z
LOCATION:Gasthaus Quartier 21\, Fuhlsbüttler Straße 405\, 22309 Hamburg
SEQUENCE:0
SUMMARY:Radlertreff des ADFC Hamburg
UID:eaf8e755-6154-4d07-be29-fe69ef44c7e7
URL:https://touren-termine.adfc.de/radveranstaltung/143743-radlertreff-des
 -adfc-hamburg
END:VEVENT
END:VCALENDAR
