BEGIN:VCALENDAR
PRODID:-//github.com/rianjs/ical.net//NONSGML ical.net 4.0//EN
VERSION:2.0
BEGIN:VEVENT
DESCRIPTION:Von Kreuztal oder Netphen aus eine Rundtour mit Pedelecs über 
 Wald- und Radwege am Rothaarkamm. Wunderschöne Täler\,  zwei lange Anstie
 ge und herrliche Ausblicke. Einkehr im Forsthaus Lahnquelle.\nhttps://tou
 ren-termine.adfc.de/radveranstaltung/151247-berge-und-taler-am-rothaarkam
 m
DTEND:20250609T160000Z
DTSTAMP:20260422T234656Z
DTSTART:20250609T080000Z
LOCATION:Marburgerstraße\, Roter Platz\, 57223 Kreuztal
SEQUENCE:0
SUMMARY:Berge und Täler am Rothaarkamm
UID:2c46ffd3-da58-4657-8c57-2fdfc4f73268
URL:https://touren-termine.adfc.de/radveranstaltung/151247-berge-und-taler
 -am-rothaarkamm
END:VEVENT
END:VCALENDAR
