BEGIN:VCALENDAR
PRODID:-//github.com/rianjs/ical.net//NONSGML ical.net 4.0//EN
VERSION:2.0
BEGIN:VEVENT
DESCRIPTION:Der ADFC Solingen veranstaltet zusammen mit dem FFF Solingen\,
  dem Jugendstadtrat und dem NABU Solingen eine Fahrraddemo für die angeda
 chte Veloroute 2 entlang der Hauptstraßen.\nhttps://touren-termine.adfc.d
 e/radveranstaltung/103465-raddemo-fur-die-vr2sg
DTEND:20230819T110000Z
DTSTAMP:20260421T172649Z
DTSTART:20230819T090000Z
LOCATION:Ohligser Schützenplatz\, Solingen\, 42697 Solingen
SEQUENCE:0
SUMMARY:Raddemo für die #VR2SG
UID:281b4537-a926-4ba2-8c67-b7fc6440c9bf
URL:https://touren-termine.adfc.de/radveranstaltung/103465-raddemo-fur-die
 -vr2sg
END:VEVENT
END:VCALENDAR
