BEGIN:VCALENDAR
PRODID:-//github.com/rianjs/ical.net//NONSGML ical.net 4.0//EN
VERSION:2.0
BEGIN:VEVENT
DESCRIPTION:Kurze Zusammenfassung des Erlernten aus Modul 2.\nPlanung von 
 Mehrtagestouren.\nUnter Anleitung praktische Übungen dazu.\nNeues aus der
  Komootwelt. \nAnmeldeschluss 24.02.2025\nhttps://touren-termine.adfc.de/
 radveranstaltung/146391-komoot-schulung-modul-3
DTEND:20250226T190000Z
DTSTAMP:20260421T114935Z
DTSTART:20250226T170000Z
LOCATION:Lüneburger Straße 16 AKH Verwaltungsgebäude\, 29223 Celle
SEQUENCE:0
SUMMARY:Komoot Schulung Modul 3
UID:66782f54-6de6-4910-8075-51014c73d100
URL:https://touren-termine.adfc.de/radveranstaltung/146391-komoot-schulung
 -modul-3
END:VEVENT
END:VCALENDAR
