BEGIN:VCALENDAR
PRODID:-//github.com/rianjs/ical.net//NONSGML ical.net 4.0//EN
VERSION:2.0
BEGIN:VEVENT
DESCRIPTION:Minigolf oder Museum in Ottobeuren\nhttps://touren-termine.adf
 c.de/radveranstaltung/191315-kultur-und-spass-in-ottobeuren
DTEND:20260827T170000Z
DTSTAMP:20260425T153735Z
DTSTART:20260827T080000Z
LOCATION:Peter-Dörfler-Straße 2-4\, 87437 Kempten (Allgäu)
SEQUENCE:0
SUMMARY:Kultur und Spaß in Ottobeuren
UID:5e357f3e-b6bf-4c98-8cc8-247942b3e1ab
URL:https://touren-termine.adfc.de/radveranstaltung/191315-kultur-und-spas
 s-in-ottobeuren
END:VEVENT
END:VCALENDAR
