BEGIN:VCALENDAR
PRODID:-//github.com/rianjs/ical.net//NONSGML ical.net 4.0//EN
VERSION:2.0
BEGIN:VEVENT
DESCRIPTION:Wir fahren zum Torfmuseum Gröbenzell. Dann gehts mit dem Klima
 schutzberater Tilo Scholze durch das Fußbergmoos und nach Puch zum Landwi
 rtschaftsamt\, wo die Ausstellung "Licht ins Moor" gezeigt wird.\nhttps:/
 /touren-termine.adfc.de/radveranstaltung/191135-moorlandschaft-erleben-to
 rfmuseum-und-fussbergmoos
DTEND:20260419T150000Z
DTSTAMP:20260419T115805Z
DTSTART:20260419T074500Z
LOCATION:Bike & Ride Fahrradparkhaus\, 85221 Dachau
SEQUENCE:0
SUMMARY:Moorlandschaft erleben: Torfmuseum und Fußbergmoos
UID:8847aca6-b4df-4ab7-b26b-0802fb96ec49
URL:https://touren-termine.adfc.de/radveranstaltung/191135-moorlandschaft-
 erleben-torfmuseum-und-fussbergmoos
END:VEVENT
END:VCALENDAR
