BEGIN:VCALENDAR
PRODID:-//github.com/rianjs/ical.net//NONSGML ical.net 4.0//EN
VERSION:2.0
BEGIN:VEVENT
DESCRIPTION:Die Belziger Rad-Initiative lädt ein zur bunten Radtour vom Be
 lziger Marktplatz zur Burg Rabenstein.\nhttps://touren-termine.adfc.de/ra
 dveranstaltung/131813-von-belzig-zum-wanderfest-in-raben
DTEND:20240526T123000Z
DTSTAMP:20260425T232324Z
DTSTART:20240526T103000Z
LOCATION:Marktplatz\, 14806 Bad Belzig
SEQUENCE:0
SUMMARY:Von Belzig zum Wanderfest in Raben
UID:1576a813-2c9c-47a5-b579-43eb17165251
URL:https://touren-termine.adfc.de/radveranstaltung/131813-von-belzig-zum-
 wanderfest-in-raben
END:VEVENT
END:VCALENDAR
