BEGIN:VCALENDAR
PRODID:-//github.com/rianjs/ical.net//NONSGML ical.net 4.0//EN
VERSION:2.0
BEGIN:VEVENT
DESCRIPTION:Für einen Erfahrungsaustausch und erste Überlegungen für 2025 
 treffen sich die Tourguides des Kreises Siegen Wittgenstein\nhttps://tour
 en-termine.adfc.de/radveranstaltung/139908-tourguide-treffen-siegen-wittg
 enstein
DTEND:20241029T201500Z
DTSTAMP:20260422T234656Z
DTSTART:20241029T183000Z
LOCATION:Gesundheitszentrum am Siegbogen\, Weidenauer Straße 202\, 57076 S
 iegen
SEQUENCE:0
SUMMARY:Tourguide Treffen Siegen Wittgenstein
UID:0399d88d-7fdc-4a34-9619-a0db086bf5b5
URL:https://touren-termine.adfc.de/radveranstaltung/139908-tourguide-treff
 en-siegen-wittgenstein
END:VEVENT
END:VCALENDAR
