BEGIN:VCALENDAR
PRODID:-//github.com/rianjs/ical.net//NONSGML ical.net 4.0//EN
VERSION:2.0
BEGIN:VEVENT
DESCRIPTION:Von Borken - Burlo - Oeding - Winterswijk - Vreden - Stadtlohn
  - Hundewicker Bahnhof - Südlohn - Weseke - nach Borken\nhttps://touren-t
 ermine.adfc.de/radveranstaltung/180034-zum-hundewicker-bahnhof-bei-stadtl
 ohn
DTEND:20260808T080000Z
DTSTAMP:20260421T154004Z
DTSTART:20260808T080000Z
LOCATION:Markt 15\, 46325 Borken
SEQUENCE:0
SUMMARY:Zum Hundewicker Bahnhof bei Stadtlohn
UID:37688b22-eeb6-438c-8e3c-76982f98f31a
URL:https://touren-termine.adfc.de/radveranstaltung/180034-zum-hundewicker
 -bahnhof-bei-stadtlohn
END:VEVENT
END:VCALENDAR
