BEGIN:VCALENDAR
PRODID:-//github.com/rianjs/ical.net//NONSGML ical.net 4.0//EN
VERSION:2.0
BEGIN:VEVENT
DESCRIPTION:Mehr Sicherheit für den Radverkehr durch StVO konforme Seitena
 bstände beim Überholen durch Kraftfahrzeuge\nhttps://touren-termine.adfc.
 de/radveranstaltung/117247-projektgruppe-openbikesensor
DTEND:20241111T190000Z
DTSTAMP:20260420T231011Z
DTSTART:20241111T173000Z
LOCATION:Koppel 34-36\, 20099 Hamburg
SEQUENCE:0
SUMMARY:Projektgruppe OpenBikeSensor
UID:906a4c8a-bfc0-43bd-b8c0-f0f46aa0806a
URL:https://touren-termine.adfc.de/radveranstaltung/117247-projektgruppe-o
 penbikesensor
END:VEVENT
END:VCALENDAR
