BEGIN:VCALENDAR
PRODID:-//github.com/rianjs/ical.net//NONSGML ical.net 4.0//EN
VERSION:2.0
BEGIN:VEVENT
DESCRIPTION:Einfach mal für ein paar Wochen auf das Fahrrad umsteigen - fü
 r ein gesundes Klima und die eigene Gesundheit.\nhttps://touren-termine.a
 dfc.de/radveranstaltung/155974-autofasten
DTEND:20250418T210000Z
DTSTAMP:20260421T235945Z
DTSTART:20250305T060000Z
LOCATION:Südenwall 19\, 59065 Hamm
SEQUENCE:0
SUMMARY:Autofasten
UID:1f6523d9-0fde-4c33-b85c-a932058c7080
URL:https://touren-termine.adfc.de/radveranstaltung/155974-autofasten
END:VEVENT
END:VCALENDAR
