BEGIN:VCALENDAR
PRODID:-//github.com/rianjs/ical.net//NONSGML ical.net 4.0//EN
VERSION:2.0
BEGIN:VEVENT
DESCRIPTION:Von Wolfratshausen geht`s zwar leicht\, aber auch stetig berga
 uf bis Königsdorf und dann sehr hügelig weiter bis Fischbach. Dort  mache
 n wir Mittag und radeln dann weiter nach Penzberg zum Zug.\nhttps://toure
 n-termine.adfc.de/radveranstaltung/161269-wolfratshausen-fischbach-penzbe
 rg
DTEND:20250621T140000Z
DTSTAMP:20260421T101943Z
DTSTART:20250621T071500Z
LOCATION:Bike & Ride Fahrradparkhaus\, 85221 Dachau
SEQUENCE:0
SUMMARY:Wolfratshausen -Fischbach - Penzberg
UID:a4320aa5-a716-4f52-b4ef-22fd2cec974c
URL:https://touren-termine.adfc.de/radveranstaltung/161269-wolfratshausen-
 fischbach-penzberg
END:VEVENT
END:VCALENDAR
