BEGIN:VCALENDAR
PRODID:-//github.com/rianjs/ical.net//NONSGML ical.net 4.0//EN
VERSION:2.0
BEGIN:VEVENT
DESCRIPTION:Das ADFC-Aktiventreffen bietet die Möglichkeit gemeinsam über 
 aktuelle Themen zu diskutieren\, Ideen auszutauschen und aktiv an unserer
  Vereinsarbeit teilzuhaben.\nhttps://touren-termine.adfc.de/radveranstalt
 ung/143982-adfcaktiventreffen
DTEND:20250409T190000Z
DTSTAMP:20260424T160433Z
DTSTART:20250409T170000Z
LOCATION:Kunstraum im Hundertwasser-Bahnhof\, Friedensreich-Hundertwasser-
 Platz 1\, 29525 Uelzen
SEQUENCE:0
SUMMARY:ADFC-Aktiventreffen
UID:709b1e63-2eeb-4832-ac2d-b5d8226277a2
URL:https://touren-termine.adfc.de/radveranstaltung/143982-adfcaktiventref
 fen
END:VEVENT
END:VCALENDAR
