BEGIN:VCALENDAR
PRODID:-//github.com/rianjs/ical.net//NONSGML ical.net 4.0//EN
VERSION:2.0
BEGIN:VEVENT
DESCRIPTION:15 Jahre: Zahlreiche Aktionen Fr. / Sa.\nhttps://touren-termin
 e.adfc.de/radveranstaltung/165039-extern-firmenjubilaum-radhof-engelboste
 l-
DTEND:20250510T180000Z
DTSTAMP:20260424T173224Z
DTSTART:20250510T080000Z
LOCATION:Heidestraße 24\, 30855 Langenhagen
SEQUENCE:0
SUMMARY:Extern: Firmenjubiläum "Radhof Engelbostel" ⓇⓈ
UID:435bf544-5c2b-4693-ab7d-2a576de02e30
URL:https://touren-termine.adfc.de/radveranstaltung/165039-extern-firmenju
 bilaum-radhof-engelbostel-
END:VEVENT
END:VCALENDAR
