BEGIN:VCALENDAR
PRODID:-//github.com/rianjs/ical.net//NONSGML ical.net 4.0//EN
VERSION:2.0
BEGIN:VEVENT
DESCRIPTION:Radlertreff im Glossner Bräustübl\nhttps://touren-termine.adfc
 .de/radveranstaltung/141459-radlertreff
DTEND:20241129T210000Z
DTSTAMP:20260425T021729Z
DTSTART:20241129T180000Z
LOCATION:Glossner Bräustübl\, Schwesterhausgasse 9\, 92318 Neumarkt in der
  Oberpfalz
SEQUENCE:0
SUMMARY:Radlertreff
UID:92dd1259-7dc6-42a3-847e-da6624d94f83
URL:https://touren-termine.adfc.de/radveranstaltung/141459-radlertreff
END:VEVENT
END:VCALENDAR
