BEGIN:VCALENDAR
PRODID:-//github.com/rianjs/ical.net//NONSGML ical.net 4.0//EN
VERSION:2.0
BEGIN:VEVENT
DESCRIPTION:Gemütlich Radeln ohne Motor.\nhttps://touren-termine.adfc.de/r
 adveranstaltung/151667-schnack-aufm-rad
DTEND:20250418T170000Z
DTSTAMP:20260419T182227Z
DTSTART:20250418T150000Z
LOCATION:S-Bahnhof Wedel\, 22880 Wedel
SEQUENCE:0
SUMMARY:Schnack auf'm Rad
UID:bbf6cd22-8a69-45f5-bebd-b414fabcdadc
URL:https://touren-termine.adfc.de/radveranstaltung/151667-schnack-aufm-rad
END:VEVENT
END:VCALENDAR
