BEGIN:VCALENDAR
PRODID:-//github.com/rianjs/ical.net//NONSGML ical.net 4.0//EN
VERSION:2.0
BEGIN:VEVENT
DESCRIPTION:Wir fahren zu einem der Aktiv Standorte der Gruppe "Arche Baue
 rnhof". Erst einmal fahren wir Richtung Osten um zum Mittagessen einzukeh
 ren\, um dann zum Arche Hof weiterzufahren.\nhttps://touren-termine.adfc.
 de/radveranstaltung/90660-zum-arche-bauernhof-mit-cafe-und-fuhrung
DTEND:20230618T153000Z
DTSTAMP:20260421T102010Z
DTSTART:20230618T080000Z
LOCATION:OBI-Kreisel (Kurt-Schumacher-Straße)\, 91052 Erlangen
SEQUENCE:0
SUMMARY:Zum Arche Bauernhof mit Cafe und Führung
UID:5087cff2-3833-47f1-8d07-3080352e42af
URL:https://touren-termine.adfc.de/radveranstaltung/90660-zum-arche-bauern
 hof-mit-cafe-und-fuhrung
END:VEVENT
END:VCALENDAR
