BEGIN:VCALENDAR
PRODID:-//github.com/rianjs/ical.net//NONSGML ical.net 4.0//EN
VERSION:2.0
BEGIN:VEVENT
DESCRIPTION:Bei einer Kieztour für Neuentdecker:innen und Berliner:innen b
 esucht die ADFC-Stadtteilgruppe Wuhletal Stolpersteine am 3. September im
  Süden des Bezirks\nhttps://touren-termine.adfc.de/radveranstaltung/10592
 3-stolpersteine-in-marzahnhellersdorf
DTEND:20230903T150000Z
DTSTAMP:20260421T233459Z
DTSTART:20230903T120000Z
LOCATION:U-Bhf. Biesdorf-Süd (Seeseite)\, 12683 Berlin
SEQUENCE:0
SUMMARY:Stolpersteine in Marzahn-Hellersdorf
UID:43ee5e35-0a9b-40d9-bdeb-bb0b72c8d006
URL:https://touren-termine.adfc.de/radveranstaltung/105923-stolpersteine-i
 n-marzahnhellersdorf
END:VEVENT
END:VCALENDAR
