BEGIN:VCALENDAR
PRODID:-//github.com/rianjs/ical.net//NONSGML ical.net 4.0//EN
VERSION:2.0
BEGIN:VEVENT
DESCRIPTION:Heimat schmecken - regional produzierte Produkte vor Ort genie
 ßen und einkaufen\nhttps://touren-termine.adfc.de/radveranstaltung/154989
 -mit-dem-rad-zum-regiomarkt-in-dotzlar
DTEND:20250525T123000Z
DTSTAMP:20260423T063653Z
DTSTART:20250525T083000Z
LOCATION:Bahnhofstraße 1\, 57319 Bad Berleburg
SEQUENCE:0
SUMMARY:Mit dem Rad zum Regio-Markt in Dotzlar
UID:ebfd1f90-e865-416e-9c0f-f7fdb9fc286e
URL:https://touren-termine.adfc.de/radveranstaltung/154989-mit-dem-rad-zum
 -regiomarkt-in-dotzlar
END:VEVENT
END:VCALENDAR
