BEGIN:VCALENDAR
PRODID:-//github.com/rianjs/ical.net//NONSGML ical.net 4.0//EN
VERSION:2.0
BEGIN:VEVENT
DESCRIPTION:Sternfahrt – Saisoneröffnungstour in das Dielencafe  „Meierhof
 “ in Achum\nhttps://touren-termine.adfc.de/radveranstaltung/178509-saison
 eroffnungstour-2026
DTEND:20260328T170000Z
DTSTAMP:20260420T215521Z
DTSTART:20260328T103000Z
LOCATION:Bahnhof Bad Nenndorf\, Bahnhofstr.\, 31542 Bad Nenndorf
SEQUENCE:0
SUMMARY:Saisoneröffnungstour 2026
UID:a66c04e1-834c-4868-bfa5-87785a17247f
URL:https://touren-termine.adfc.de/radveranstaltung/178509-saisoneroffnung
 stour-2026
END:VEVENT
END:VCALENDAR
