BEGIN:VCALENDAR
PRODID:-//github.com/rianjs/ical.net//NONSGML ical.net 4.0//EN
VERSION:2.0
BEGIN:VEVENT
DESCRIPTION:Feierabendtour ins  Blaue! Wohin\, steht noch nicht fest. Ansc
 hließender monatlicher Radelstammtisch. Beides voneinander unabhäng besuc
 hbar.\nhttps://touren-termine.adfc.de/radveranstaltung/105987-feierabendt
 our-ins-blaue
DTEND:20230822T170000Z
DTSTAMP:20260423T031249Z
DTSTART:20230822T160000Z
LOCATION:Bad Berleburg Bahnhof\, 57319 Bad Berleburg
SEQUENCE:0
SUMMARY:Feierabendtour ins Blaue
UID:3272bf78-4fe7-4036-9a78-4064de2a69e5
URL:https://touren-termine.adfc.de/radveranstaltung/105987-feierabendtour-
 ins-blaue
END:VEVENT
END:VCALENDAR
