BEGIN:VCALENDAR
PRODID:-//github.com/rianjs/ical.net//NONSGML ical.net 4.0//EN
VERSION:2.0
BEGIN:VEVENT
DESCRIPTION:Fahrradaffine engagierte junge Menschen willkommen! Neu-intere
 ssierte & ADFC'ler:innen gleichermaßen. Wir planen Aktionen und tauschen 
 uns zu Fahrradthemen aus.\nTreffen @Cafe Uebereck am Ostkreuz\nhttps://to
 uren-termine.adfc.de/radveranstaltung/167965-treffen-des-jungen-adfc-berl
 in
DTEND:20250915T183000Z
DTSTAMP:20260420T120433Z
DTSTART:20250915T170000Z
LOCATION:Cafe Ueberbeck\, Sonntagstraße 31\, Ostkreuz\, 10245 Berlin
SEQUENCE:0
SUMMARY:Treffen des Jungen ADFC Berlin
UID:6da1314f-dc86-4687-bfc9-5badf21ea36d
URL:https://touren-termine.adfc.de/radveranstaltung/167965-treffen-des-jun
 gen-adfc-berlin
END:VEVENT
END:VCALENDAR
