BEGIN:VCALENDAR
PRODID:-//github.com/rianjs/ical.net//NONSGML ical.net 4.0//EN
VERSION:2.0
BEGIN:VEVENT
DESCRIPTION:Von Asperg über die Schlösser in Ludwigsburg nach Hohenheim Bä
 renschlössle und Schloss Solitude sowie schließlich in die Stadt zum Schl
 ossplatz\nhttps://touren-termine.adfc.de/radveranstaltung/129609-schlosse
 rroute
DTEND:20240530T150000Z
DTSTAMP:20260424T142349Z
DTSTART:20240530T064500Z
LOCATION:Wiener Platz\, 70469 Stuttgart
SEQUENCE:0
SUMMARY:Schlösserroute
UID:b2d58564-7a98-4287-a784-82aba579ec31
URL:https://touren-termine.adfc.de/radveranstaltung/129609-schlosserroute
END:VEVENT
END:VCALENDAR
