BEGIN:VCALENDAR
PRODID:-//github.com/rianjs/ical.net//NONSGML ical.net 4.0//EN
VERSION:2.0
BEGIN:VEVENT
DESCRIPTION:Von Siegen zu folgenden Zielen: Groß Glaesner Gipfelkreuz\, Ho
 henhainer Tunnel\, St. Anna Kapelle (Rote Kapelle) und Wendener Hütte.\nA
 uf Straßen und Waldwegen. Mit Fotopausen und Einkehr.\nhttps://touren-ter
 mine.adfc.de/radveranstaltung/116936-fototour-zur-roten-kapelle-mit-dem-p
 edelec
DTEND:20240530T170000Z
DTSTAMP:20260422T234717Z
DTSTART:20240530T080000Z
LOCATION:Jakob-Scheiner-Platz\, 57072 Siegen
SEQUENCE:0
SUMMARY:Fototour zur Roten Kapelle mit dem Pedelec
UID:c4020cba-f9e4-44f9-9079-586177ee3946
URL:https://touren-termine.adfc.de/radveranstaltung/116936-fototour-zur-ro
 ten-kapelle-mit-dem-pedelec
END:VEVENT
END:VCALENDAR
