BEGIN:VCALENDAR
PRODID:-//github.com/rianjs/ical.net//NONSGML ical.net 4.0//EN
VERSION:2.0
BEGIN:VEVENT
DESCRIPTION:Leichte bis mittelschwere Feierabendtour in und um Vaihingen\n
 https://touren-termine.adfc.de/radveranstaltung/95390-vaihinger-abendtour
DTEND:20230706T190000Z
DTSTAMP:20260424T142427Z
DTSTART:20230706T160000Z
LOCATION:Vollmoellerstraße\, 70563 Stuttgart
SEQUENCE:0
SUMMARY:Vaihinger Abendtour
UID:b83a5990-da45-4ea4-bf96-83ddb1e03d45
URL:https://touren-termine.adfc.de/radveranstaltung/95390-vaihinger-abendt
 our
END:VEVENT
END:VCALENDAR
