BEGIN:VCALENDAR
PRODID:-//github.com/rianjs/ical.net//NONSGML ical.net 4.0//EN
VERSION:2.0
BEGIN:VEVENT
DESCRIPTION:Einladung zur Mitgliederversammlung mit Neuwahlen\nhttps://tou
 ren-termine.adfc.de/radveranstaltung/181201-mitgliederversammlung-adfc-ke
 mpten-oberallgau
DTEND:20260319T210000Z
DTSTAMP:20260424T151349Z
DTSTART:20260319T173000Z
LOCATION:swoboda alpin\, Aybühlweg 69\, 87439 Kempten (Allgäu)
SEQUENCE:0
SUMMARY:Mitgliederversammlung ADFC Kempten - Oberallgäu
UID:1856b3ad-f417-43a2-a1f1-8386ed2fe66b
URL:https://touren-termine.adfc.de/radveranstaltung/181201-mitgliederversa
 mmlung-adfc-kempten-oberallgau
END:VEVENT
END:VCALENDAR
